BEGIN:VCALENDAR
VERSION:2.0
PRODID:-//ChamberMaster//Event Calendar 2.0//EN
METHOD:PUBLISH
X-PUBLISHED-TTL:P3D
REFRESH-INTERVAL:P3D
CALSCALE:GREGORIAN
BEGIN:VEVENT
DTSTART:20260429T170000Z
DTEND:20260429T190000Z
X-MICROSOFT-CDO-ALLDAYEVENT:FALSE
SUMMARY:Plant and Wildflower Walks: Arbutus Woods in Letchworth
DESCRIPTION:Take an easy guided walk looking at the new spring plants and wildflowers in Letchworth Park.
X-ALT-DESC;FMTTYPE=text/html:Take an easy guided walk looking at the new spring plants and wildflowers in Letchworth Park.&nbsp\;&nbsp\;
LOCATION:Meet at parade Grounds Parking Are
UID:e.2032.18109
SEQUENCE:3
DTSTAMP:20260424T071239Z
URL:https://business.livingstoncountychamber.com/events/details/plant-and-wildflower-walks-arbutus-woods-in-letchworth-18109
END:VEVENT

END:VCALENDAR
