BEGIN:VCALENDAR
VERSION:2.0
PRODID:-//ChamberMaster//Event Calendar 2.0//EN
METHOD:PUBLISH
X-PUBLISHED-TTL:P3D
REFRESH-INTERVAL:P3D
CALSCALE:GREGORIAN
BEGIN:VEVENT
DTSTART:20230223T150000Z
DTEND:20230223T183000Z
X-MICROSOFT-CDO-ALLDAYEVENT:FALSE
SUMMARY:Mt. Morris Canyon Section - West Trek
DESCRIPTION:Finger Lakes Trail Hike- Mt Morris Canyon Section - West Trek
X-ALT-DESC;FMTTYPE=text/html:Finger Lakes Trail Hike- Mt Morris Canyon Section - West Trek
LOCATION:Meet at Mt. Morris Entrance Gate. Bring a lunch. Will caravan.
UID:e.2032.13593
SEQUENCE:3
DTSTAMP:20260421T195656Z
URL:https://business.livingstoncountychamber.com/events/details/mt-morris-canyon-section-west-trek-13593
END:VEVENT

END:VCALENDAR
