BEGIN:VCALENDAR
VERSION:2.0
PRODID:-//ChamberMaster//Event Calendar 2.0//EN
METHOD:PUBLISH
X-PUBLISHED-TTL:P3D
REFRESH-INTERVAL:P3D
CALSCALE:GREGORIAN
BEGIN:VEVENT
DTSTART;VALUE=DATE:20230718
DTEND;VALUE=DATE:20230723
TRANSP:TRANSPARENT
X-MICROSOFT-CDO-ALLDAYEVENT:TRUE
SUMMARY:Hemlock Little World's Fair
DESCRIPTION:Hemlock "Little World's" fair including a midway with rides for the whole family\, petting zoo\, food stands\, tractor pulls\, demolition derby\, harness racing\, horse pull\, racing pigs\, talent show\, quilt show and monster trucks.  Every evening great bands are scheduled to perform.
X-ALT-DESC;FMTTYPE=text/html:Hemlock &quot\;Little World&#39\;s&quot\; fair including a midway with rides for the whole family\, petting zoo\, food stands\, tractor pulls\, demolition derby\, harness racing\, horse pull\, racing pigs\, talent show\, quilt show and monster trucks.&nbsp\; Every evening great bands are scheduled to perform.&nbsp\;<br />\n<br />\n<br />\n&nbsp\;
LOCATION:7370 Water Street Hemlock\, NY 14466
UID:e.2032.13227
SEQUENCE:3
DTSTAMP:20260422T171747Z
URL:https://business.livingstoncountychamber.com/events/details/hemlock-little-world-s-fair-13227
END:VEVENT

END:VCALENDAR
