BEGIN:VCALENDAR
VERSION:2.0
PRODID:-//ChamberMaster//Event Calendar 2.0//EN
METHOD:PUBLISH
X-PUBLISHED-TTL:P3D
REFRESH-INTERVAL:P3D
CALSCALE:GREGORIAN
BEGIN:VEVENT
DTSTART:20220907T150000Z
DTEND:20220907T160000Z
X-MICROSOFT-CDO-ALLDAYEVENT:FALSE
SUMMARY:Free Tours of the Mount Morris Dam!
DESCRIPTION:Free Tours of the Dam!\n\n\n\n The US Army Corps of Engineers Visitor Center at Mount Morris Dam\n\n and Recreation Area is open daily May 2nd - October 25th from 10am\n\n to 4:30pm. Free ranger-guided walking tours of the top of the dam are offered\n\n each day as follows:  Monday - Thursday at 2pm & Friday - Sunday at\n\n 11am and 2pm. You can now register on line for your space in the tour.\n\n\n\nTours are limited to 30 people and are first-come\, first-served.\n\nSo register early and check out our Visitor Center!\n\n\n\nFor details call 585-658-4790
X-ALT-DESC;FMTTYPE=text/html:Free Tours of the Dam!<br />\n<br />\n<span style="font-family:calibri\,sans-serif\;"><span style="font-size:11.0pt\;">&nbsp\;The US Army Corps of Engineers Visitor Center at Mount Morris Dam<br />\n&nbsp\;and Recreation Area is open daily May 2nd - October 25th</span> from 10am</span><br />\n&nbsp\;to 4:30pm. Free ranger-guided walking tours of the top of the dam are offered<br />\n&nbsp\;each day as follows:&nbsp\; Monday - Thursday at 2pm &amp\; Friday - Sunday at<br />\n&nbsp\;11am and 2pm. You can now register on line for your space in the tour.<br />\n<br />\nTours are limited to 30 people and are first-come\, first-served.<br />\nSo register early and check out our Visitor Center!<br />\n<br />\nFor details call 585-658-4790
LOCATION:Mount Morris Dam is located at 6103 Visitor Center Rd Mount Morris\, NY 14510 Mount Morris Dam and Recreation Area\; 6103 Visitor Center Rd in Mount Morris\, NY 14510 (located 2 miles south of Mount Morris off of Rt 408S/Chapel St).
UID:e.2032.13244
SEQUENCE:3
DTSTAMP:20260424T110840Z
URL:https://business.livingstoncountychamber.com/events/details/free-tours-of-the-mount-morris-dam-13244
END:VEVENT

END:VCALENDAR
