BEGIN:VCALENDAR
VERSION:2.0
PRODID:-//ChamberMaster//Event Calendar 2.0//EN
METHOD:PUBLISH
X-PUBLISHED-TTL:P3D
REFRESH-INTERVAL:P3D
CALSCALE:GREGORIAN
BEGIN:VEVENT
DTSTART;VALUE=DATE:20260430
DTEND;VALUE=DATE:20260503
TRANSP:TRANSPARENT
X-MICROSOFT-CDO-ALLDAYEVENT:TRUE
SUMMARY:Cleanup Days in the Village of Lima
DESCRIPTION:The Town and Village of Lima will be sponsoring Cleanup Days April 30 to May 2 from 8 am to noon.  Located at the Lima Town Highway Department Dublin Street\, Lima\, NY  A permit is not required but you must show your License.  You will be limited t one truckload per household.  Electronics and a maximum of 3 tv's are permitted.  No contractor debris\, weekly garbage\, propane tanks or liquid paint are allowed.
X-ALT-DESC;FMTTYPE=text/html:The Town and Village of Lima will be sponsoring Cleanup Days April 30 to May 2 from 8 am to noon.&nbsp\; Located at the Lima Town Highway Department Dublin Street\, Lima\, NY&nbsp\; A permit is not required but you must show your License.&nbsp\; You will be limited t one truckload per household.&nbsp\; Electronics and a maximum of 3 tv&#39\;s are permitted.&nbsp\; No contractor debris\, weekly garbage\, propane tanks or liquid paint are allowed.
LOCATION:
UID:e.2032.18106
SEQUENCE:3
DTSTAMP:20260424T072447Z
URL:https://business.livingstoncountychamber.com/events/details/cleanup-days-in-the-village-of-lima-18106
END:VEVENT

END:VCALENDAR
