BEGIN:VCALENDAR
VERSION:2.0
PRODID:-//ChamberMaster//Event Calendar 2.0//EN
METHOD:PUBLISH
X-PUBLISHED-TTL:P3D
REFRESH-INTERVAL:P3D
CALSCALE:GREGORIAN
BEGIN:VEVENT
DTSTART:20260502T140000Z
DTEND:20260502T200000Z
X-MICROSOFT-CDO-ALLDAYEVENT:FALSE
SUMMARY:Antiques & Artisans Show
DESCRIPTION:The annual Antiques and Artisans Show welcomes dealers from around the region with both fine and primitive 19th century wares to 20th century vintage.  Plus\, shop handcrafted goods by local artisans and explore all GCV&M has to offer.  May 2.
X-ALT-DESC;FMTTYPE=text/html:The annual Antiques and Artisans Show welcomes dealers from around the region with both fine and primitive 19th century wares to 20th century vintage.&nbsp\; Plus\, shop handcrafted goods by local artisans and explore all GCV&amp\;M has to offer.&nbsp\; May 2.
LOCATION:1410 Flint Hill Road Mumford
UID:e.2032.18107
SEQUENCE:3
DTSTAMP:20260424T060107Z
URL:https://business.livingstoncountychamber.com/events/details/antiques-artisans-show-18107
END:VEVENT

END:VCALENDAR
